Workbook

Sheet Abstract
A1: Thematic Mural Painting on Reinforced Earth (RE) Wall- BOQ
A2: S. No | B2: Description | C2: Unit | D2: Quantity | E2: Rate | F2: Amount | G2: Remarks
A3: 1 | B3: Providing and executing thematic mural painting on the exposed concrete surface of existing Reinforced Earth (RE) Wall, including surface cleaning, removal of loose paint and foreign materials, repair of minor surface imperfections, application of approved exterior grade primer, preparation of approved artwork/design and painting using premium quality weather-resistant exterior acrylic paints of approved shades. The work shall include artistic rendering, detailing, lettering, protective clear UV-resistant/weatherproof coating, finishing and curing, complete in all respects as per the approved artwork and directions of the Engineer-in-Charge.The rate shall include preparation of artwork, supply of all materials, primer, paints, protective coating, labour, skilled artists, scaffolding/staging, tools & tackles, transportation, loading/unloading, safety arrangements, quality control and all incidental works necessary for satisfactory completion of the work. | C3: Sqm | D3: =Summary!C9 -> 54133.295

Sheet Summary
A1: Summary RE-Wall Painting
A2: S. No | B2: Location | C2: Quantity | D2: Rate | E2: Amount
A3: A | B3: =calculation!B4 -> Gurukul kangri- Singhdwar- Premnagar aashram Flyover From Km. 198+020 To 199+920 | C3: ='Measurement Sheet'!K32 -> 24528.82
A4: B | B4: =calculation!B14 -> Shankaraycharya Chawk Elevated Flyover From Km. 201+120 to 202+120 | C4: ='Measurement Sheet'!K49 -> 8669.8969
A5: C | B5: ='Measurement Sheet'!B50 -> Chandi Chawk Flyover from Km. 202+180 To 203+140 | C5: ='Measurement Sheet'!K66 -> 12299.319
A6: D | B6: ='Measurement Sheet'!B67 -> Right-of-Way (ROW) Walls | C6: ='Measurement Sheet'!K77 -> 3714.05
A7: Total Quantity | C7: =SUM(C3:C6) -> 49212.086
B9: 10 % Extra Qty | C9: =C7*10%+C7 -> 54133.295
B11: Note ; Amount given as per Quatation Received .

Sheet Measurement Sheet
A1: RE - Wall Painting - Haridwar
A2: S.No. | B2: Description | C2: Chainage | E2: Side | F2: Location | G2: Nos. | H2: Radius | I2: Length | J2: Height | K2: Quantity | L2: Remarks | M2: Photo no.
C3: From | D3: To | H3: (Meter) | I3: (Meter) | J3: (Meter) | K3: (Sq.M)
A4: A | B4: =calculation!B4 -> Gurukul kangri- Singhdwar- Premnagar aashram Flyover From Km. 198+020 To 199+920
A5: A.1 | B5: RE- Wall
A6: 1 | C6: 198020 | D6: 198700 | E6: LHS | F6: A1 | I6: =D6-C6 -> 680 | J6: 8.5 | K6: =1/2*(J6*I6) -> 2890 | L6: Towards Singdwar | M6: 1969
A7: 2 | C7: 198820 | D7: 199400 | E7: LHS | F7: A1-A2 | I7: =D7-C7 -> 580 | J7: =(8.5+9.5)/2 -> 9 | K7: =(J7*I7) -> 5220 | L7: Singhdwar To Prem Nagar aashram | M7: 1970
A8: 3 | C8: 199550 | D8: 199920 | E8: LHS | F8: A2 | I8: =D8-C8 -> 370 | J8: 9.5 | K8: =1/2*(J8*I8) -> 1757.5 | L8: Towards Shankarayacharya chawk | M8: 1971
A9: 4 | C9: 198020 | D9: 198700 | E9: RHS | F9: A1 | I9: =D9-C9 -> 680 | J9: 8.5 | K9: =1/2*(J9*I9) -> 2890 | L9: Towards Singdwar | M9: 1972
A10: 5 | C10: 198820 | D10: 199400 | E10: RHS | F10: A1-A2 | I10: =D10-C10 -> 580 | J10: =(8.5+9.5)/2 -> 9 | K10: =(J10*I10) -> 5220 | L10: Singhdwar To Prem Nagar aashram
A11: 6 | C11: 199550 | D11: 199920 | E11: RHS | F11: A2 | I11: =D11-C11 -> 370 | J11: 9.5 | K11: =1/2*(J11*I11) -> 1757.5 | L11: Towards Shankarayacharya chawk
A12: A.2 | B12: Joint-wall
A13: 1 | C13: 198700 | E13: LHS-RHS | F13: A1 | I13: 29 | J13: 9.5 | K13: =(J13*I13) -> 275.5 | L13: Singhdwar | M13: 1974
A14: 2 | C14: 198820 | E14: LHS-RHS | I14: 29 | J14: 9.5 | K14: =(J14*I14) -> 275.5 | L14: Singhdwar | M14: 1977
A15: 3 | C15: 199400 | E15: LHS-RHS | I15: 29 | J15: 9.5 | K15: =(J15*I15) -> 275.5 | L15: Premnagar | M15: 1982
A16: 4 | C16: 199550 | E16: LHS-RHS | F16: A2 | I16: 29 | J16: 9.5 | K16: =(J16*I16) -> 275.5 | L16: Premnagar | M16: 1984
A17: A.3 | B17: Pier
A18: 1 | C18: 198700 | D18: 198820 | E18: LHS-RHS | G18: 10 | H18: 1.11 | J18: 4.5 | K18: =((2*3.14*H18*J18))*G18 -> 313.686 | L18: Singhdwar | M18: 1983
A19: 2 | C19: 199400 | D19: 199+550 | E19: LHS-RHS | G19: 10 | H19: 1.11 | J19: 4.5 | K19: =((2*3.14*H19*J19))*G19 -> 313.686 | L19: premnagar aashram chowk | M19: 1976
A21: A.4 | B21: Pier Cap
A22: 1 | C22: 198700 | D22: 198820 | E22: LHS-RHS | G22: 10 | K22: =calculation!C11*'Measurement Sheet'!G22 -> 817.22406 | L22: Singhdwar | M22: 1983
A23: 2 | C23: 199+400 | D23: 199+550 | E23: LHS-RHS | G23: 10 | K23: =calculation!C11*'Measurement Sheet'!G23 -> 817.22406 | L23: premnagar aashram chowk | M23: 1976
A24: A.5 | B24: PUP
A25: 1 | C25: 198300 | E25: LHS-RHS | G25: 1 | K25: =calculation!C13 -> 364 | L25: Gurukul kangri | M25: 1979
A26: 2 | C26: 198950 | E26: LHS-RHS | G26: 1 | K26: =calculation!C13 -> 364 | L26: near premnagar aashram
A27: A.6 | B27: Crash Barrier
A28: 1 | C28: 198700 | D28: 198820 | E28: LHS | I28: =D28-C28 -> 120 | J28: 1.3 | K28: =I28*J28 -> 156 | L28: Singhdwar
A29: 2 | C29: 198700 | D29: 198820 | E29: RHS | I29: =D29-C29 -> 120 | J29: 1.3 | K29: =I29*J29 -> 156 | L29: Singhdwar
A30: 3 | C30: 199400 | D30: 199550 | E30: LHS | I30: =D30-C30 -> 150 | J30: 1.3 | K30: =I30*J30 -> 195 | L30: premnagar aashram chowk
A31: 4 | C31: 199400 | D31: 199550 | E31: RHS | I31: =D31-C31 -> 150 | J31: 1.3 | K31: =I31*J31 -> 195 | L31: premnagar aashram chowk
A32: Sub Total (A) | K32: =SUM(K6:K31) -> 24528.82
A33: B | B33: =calculation!B14 -> Shankaraycharya Chawk Elevated Flyover From Km. 201+120 to 202+120
A34: B.1 | B34: RE- Wall
A35: 1 | C35: 201+120 | D35: 201+330 | E35: LHS | F35: A1 | I35: 210 | J35: 8.4 | K35: =1/2*I35*J35 -> 882 | L35: Shankaracharya Chowk
A36: 2 | C36: 201+860 | D36: 202+120 | E36: LHS | F36: A2 | I36: 260 | J36: 8.25 | K36: =1/2*I36*J36 -> 1072.5 | L36: towards chandi chowk
A37: 3 | C37: 201+120 | D37: 201+330 | E37: RHS | F37: A1 | I37: 210 | J37: 8.4 | K37: =1/2*I37*J37 -> 882 | L37: Shankaracharya Chowk
A38: 4 | C38: 201+860 | D38: 202+120 | E38: RHS | F38: A2 | I38: 260 | J38: 8.25 | K38: =1/2*I38*J38 -> 1072.5 | L38: towards chandi chowk
A39: B.2 | B39: Joint-wall
A40: 1 | C40: 201+330 | E40: LHS-RHS | F40: A1 | I40: 13 | J40: 8.415 | K40: =(J40*I40) -> 109.395 | L40: Shankaracharya Chowk
A41: 2 | C41: 201+860 | E41: LHS-RHS | F41: A2 | I41: 13 | J41: 8.415 | K41: =(J41*I41) -> 109.395 | L41: Vairagi camp pass
A42: B.3 | B42: Pier
A43: 1 | C43: 201+330 | D43: 201+860 | E43: LHS-RHS | G43: 16 | H43: 1.27 | J43: 2.5 | K43: =2*3.14*1.27*2.5 -> 19.939 | L43: Shankaracharya Chowk
A44: B.4 | B44: Pier Cap
A45: 1 | C45: 201+330 | D45: 201+860 | E45: LHS-RHS | G45: 16 | K45: =calculation!C21*'Measurement Sheet'!G45 -> 1386.1679 | L45: Shankaracharya Chowk
A46: B.5 | B46: Crash Barrier
A47: 1 | C47: 201+300 | D47: 201+860 | E47: LHS | I47: 560 | J47: 3.1 | K47: =I47*J47 -> 1736 | L47: Shankaracharya Chowk | M47: 3625
A48: 2 | C48: 201+300 | D48: 201+860 | E48: RHS | I48: 560 | J48: 2.5 | K48: =I48*J48 -> 1400 | L48: Shankaracharya Chowk | M48: 3636
A49: Sub Total (B) | K49: =SUM(K35:K48) -> 8669.8969
A50: C | B50: =calculation!B22 -> Chandi Chawk Flyover from Km. 202+180 To 203+140
A51: C.1 | B51: RE- Wall
A52: 1 | C52: 202180 | D52: 202700 | E52: LHS | F52: A1 | I52: =(D52-C52) -> 520 | J52: 8.8 | K52: =1/2*I52*J52 -> 2288 | L52: Chandi chowk
A53: 2 | C53: 202960 | D53: 203580 | E53: LHS | F53: A2 | I53: =(D53-C53) -> 620 | J53: 8.8 | K53: =1/2*I53*J53 -> 2728 | L53: towards har ki pauri
A54: 3 | C54: 202180 | D54: 202700 | E54: RHS | F54: A1 | I54: =(D54-C54) -> 520 | J54: 8.8 | K54: =1/2*I54*J54 -> 2288 | L54: Chandi chowk
A55: 4 | C55: 202960 | D55: 203580 | E55: RHS | F55: A2 | I55: =(D55-C55) -> 620 | J55: 8.8 | K55: =1/2*I55*J55 -> 2728 | L55: towards har ki pauri
A56: C.2 | B56: Joint-wall
A57: 1 | C57: 202590 | E57: LHS-RHS | F57: A1 | I57: 24 | J57: 9 | K57: =(J57*I57) -> 216 | L57: Chandi chowk
A58: 2 | C58: 202960 | E58: LHS-RHS | F58: A2 | I58: 24 | J58: 9 | K58: =(J58*I58) -> 216 | L58: Chandi chowk
A59: C.3 | B59: Pier
A60: 1 | C60: 202590 | D60: 202960 | E60: LHS-RHS | G60: 10 | H60: 1.13 | J60: 4.62 | K60: =2*3.14*H60*J60*G60 -> 327.85368 | L60: Chandi chowk
A61: C.4 | B61: Pier Cap
A62: 1 | C62: 202590 | D62: 202960 | E62: LHS-RHS | G62: 10 | K62: =calculation!C29*'Measurement Sheet'!G62 -> 545.46534 | L62: Chandi chowk
A63: C.5 | B63: Crash Barrier
A64: 1 | C64: 202590 | D64: 202960 | E64: LHS | I64: 370 | J64: 1.3 | K64: =I64*J64 -> 481 | L64: Chandi chowk | M64: 3664
A65: 2 | C65: 202590 | D65: 202960 | E65: RHS | I65: 370 | J65: 1.3 | K65: =I65*J65 -> 481 | L65: Chandi chowk | M65: 3664
A66: Sub Total (C) | K66: =SUM(K51:K65) -> 12299.319
A67: D | B67: Right-of-Way (ROW) Walls
A68: 1 | C68: 198+100 | D68: 197+250 | E68: RHS | I68: 850 | J68: 2.3 | K68: =I68*J68 -> 1955 | L68: Gurukul kangri | M68: 1987 & 1986
A69: 2 | C69: 201+800 | D69: 201+920 | E69: RHS | I69: 120 | J69: 1 | K69: 120 | L69: Shankaracharya Chowk | M69: 3635
A70: 3 | C70: 201+960 | D70: 202+115 | E70: RHS | I70: 155 | J70: 1.95 | K70: =I70*J70 -> 302.25 | L70: Shankaracharya Chowk | M70: 3634
A71: 4 | C71: 201+580 | D71: 201+640 | E71: RHS | I71: 60 | J71: 3.4 | K71: =I71*J71 -> 204 | L71: Shankaracharya Chowk | M71: 3642
A72: 5 | C72: 201+580 | D72: 201+560 | E72: RHS | I72: 20 | J72: 1.24 | K72: =I72*J72 -> 24.8 | L72: Shankaracharya Chowk | M72: 3641
A73: 6 | C73: 202+140 | D73: 202+640 | E73: LHS | I73: 500 | J73: 1.1 | K73: =I73*J73 -> 550 | L73: Chandi chowk | M73: 3649
A74: 7 | C74: 202+660 | D74: 202+940 | E74: LHS | I74: 280 | J74: 1.1 | K74: =I74*J74 -> 308 | L74: Chandi chowk | M74: 3654
A75: 8 | C75: 203+620 | D75: 203+645 | E75: LHS | I75: 25 | J75: 1.6 | K75: =I75*J75 -> 40 | L75: har ki pauri | M75: 3656
A76: 9 | C76: 203+670 | D76: 203+810 | E76: LHS | I76: 140 | J76: 1.5 | K76: =I76*J76 -> 210 | L76: har ki pauri | M76: 3658
A77: Sub Total (D) | K77: =SUM(K68:K76) -> 3714.05 | L77: VIP GHAT | M77: 3660

Sheet calculation
A1: THE SURVEY OF RE-WALL PAINTING(SECTION-2)
A2: Sr.no. | B2: Description | C2: Qunatity (Sqm) | D2: Nos. | E2: Remarks
A4: A | B4: Gurukul kangri- Singhdwar- Premnagar aashram Flyover From Km. 198+020 To 199+920
A5: A.4 | B5: Pier Cap
A6: 1 | B6: Front Face | C6: =(10.5*0.82)+(1.18*2.72)+2*(1/2*3.89*1.18) -> 16.4098
A7: 2 | B7: Back Face | C7: =(10.5*0.82)+(1.18*2.72)+2*(1/2*3.89*1.18) -> 16.4098
A8: 3 | B8: Left Face | C8: =4.01*0.82 -> 3.2882
A9: 4 | B9: Right Face | C9: =4.01*0.82 -> 3.2882
A10: 5 | B10: Bottom Surface | C10: =2*(4.4*4.01)+(2.72*4.01)-3.14*1.11^2 -> 42.326406
B11: Area of pier cap | C11: =SUM(C6:C10) -> 81.722406
A12: A.5 | B12: PUP
A13: 1 | B13: Total Area | C13: =( 2*26*3.5)+26*7 -> 364
A14: B | B14: Shankaraycharya Chawk Elevated Flyover From Km. 201+120 to 202+120
A15: B.4 | B15: Pier Cap
B16: Front Face | C16: =(13*1)+(3*1.2)+(2*1/2*5*1.2) -> 22.6
A17: 2 | B17: Back Face | C17: =(13*1)+(3*1.2)+(2*1/2*5*1.2) -> 22.6
A18: 3 | B18: Left Face | C18: =3.1*1 -> 3.1
A19: 4 | B19: Right Face | C19: =3.1*1 -> 3.1
A20: 5 | B20: Bottom Surface | C20: =2*(3.1*5)+(3*3.1-(3.14*1.27^2)) -> 35.235494 | AG20: Pier calculation area of the circle not considered
B21: Area of pier cap | C21: =SUM(C16:C20) -> 86.635494 | D21: 1 | AG21: =31.36-(3.14*1.11*1.11) -> 27.491206
A22: C | B22: Chandi Chawk Flyover from Km. 202+180 To 203+140
A23: A | B23: Pier Cap
B24: Front Face | C24: =(10*0.8)+2*(1/2*1.4*3.75)+(1.4*2.5) -> 16.75
A25: 2 | B25: Back Face | C25: =(10*0.8)+2*(1/2*1.4*3.75)+1.4*2.5 -> 16.75
A26: 3 | B26: Left Face | C26: =0.8*2.16 -> 1.728
A27: 4 | B27: Right Face | C27: =0.8*2.16 -> 1.728
A28: 5 | B28: Bottom Surface | C28: =(3.75*2.16)+(3.75*2.16)+(2.5*2.16-3.14*1.13*1.13) -> 17.590534
B29: Area of pier cap | C29: =SUM(C24:C28) -> 54.546534 | D29: 1
AG82: =(3.75*2.16)+(3.75*2.16)+(2.5*2.16-3.14*1.13*1.13) -> 17.590534 | AH82: =(2*2.16*3.75)+(2.5*2.16-3.14*1.13*1.13) -> 17.590534
